BEGIN:VCALENDAR
VERSION:2.0
PRODID:-//MoreDirt v1.0//EN
BEGIN:VEVENT
DTSTAMP:20150730T130000Z
ORGANIZER;CN=Lulworth Off-road:MAILTO:
STATUS:CONFIRMED
UID:MORESPORTSNETWORK2065
DTSTART:20171001T080000Z
DTEND:20171001T120000Z
SUMMARY:Lulworth Off-Road 2017
DESCRIPTION:Lulworth Off-Road 2017 - more details: https://www.moredirt.com/event/2065
X-ALT-DESC;FMTTYPE=text/html:Lulworth Off-Road 2017 - more details: https://www.moredirt.com/event/2065
LOCATION:
END:VEVENT
END:VCALENDAR