BEGIN:VCALENDAR
VERSION:2.0
PRODID:-//MoreDirt v1.0//EN
BEGIN:VEVENT
DTSTAMP:20150730T130000Z
ORGANIZER;CN=Zamana Group:MAILTO:
STATUS:CONFIRMED
UID:MORESPORTSNETWORK2064
DTSTART:20170713T080000Z
DTEND:20170713T120000Z
SUMMARY:The Star of South 2017
DESCRIPTION:The Star of South 2017 - more details: https://www.moredirt.com/event/2064
X-ALT-DESC;FMTTYPE=text/html:The Star of South 2017 - more details: https://www.moredirt.com/event/2064
LOCATION:
END:VEVENT
END:VCALENDAR