BEGIN:VCALENDAR
VERSION:2.0
PRODID:-//MoreDirt v1.0//EN
BEGIN:VEVENT
DTSTAMP:20150730T130000Z
ORGANIZER;CN=Gisburn Forest Bike Trails:MAILTO:
STATUS:CONFIRMED
UID:MORESPORTSNETWORK2059
DTSTART:20161217T080000+0000
DTEND:20161217T120000+0000
SUMMARY:Gisburn Forest - Social Santa Ride 2016
DESCRIPTION:Gisburn Forest - Social Santa Ride 2016 - more details: https://www.moredirt.com/event/2059
X-ALT-DESC;FMTTYPE=text/html:Gisburn Forest - Social Santa Ride 2016 - more details: https://www.moredirt.com/event/2059
LOCATION:
END:VEVENT
END:VCALENDAR