BEGIN:VCALENDAR
VERSION:2.0
PRODID:-//MoreDirt v1.0//EN
BEGIN:VEVENT
DTSTAMP:20150730T130000Z
ORGANIZER;CN=Bryniau MTB:MAILTO:
STATUS:CONFIRMED
UID:MORESPORTSNETWORK2043
DTSTART:20170326T080000Z
DTEND:20170326T120000Z
SUMMARY:The Snowdonia MTB Challenge 2017
DESCRIPTION:The Snowdonia MTB Challenge 2017 - more details: https://www.moredirt.com/event/2043
X-ALT-DESC;FMTTYPE=text/html:The Snowdonia MTB Challenge 2017 - more details: https://www.moredirt.com/event/2043
LOCATION:
END:VEVENT
END:VCALENDAR