BEGIN:VCALENDAR
VERSION:2.0
PRODID:-//MoreDirt v1.0//EN
BEGIN:VEVENT
DTSTAMP:20150730T130000Z
ORGANIZER;CN=Crankworx Events Inc:MAILTO:
STATUS:CONFIRMED
UID:MORESPORTSNETWORK1959
DTSTART:20170614T080000Z
DTEND:20170614T120000Z
SUMMARY:Crankworx Les Gets
DESCRIPTION:Crankworx Les Gets - more details: https://www.moredirt.com/event/1959
X-ALT-DESC;FMTTYPE=text/html:Crankworx Les Gets - more details: https://www.moredirt.com/event/1959
LOCATION:
END:VEVENT
END:VCALENDAR