BEGIN:VCALENDAR
VERSION:2.0
PRODID:-//MoreDirt v1.0//EN
BEGIN:VEVENT
DTSTAMP:20150730T130000Z
ORGANIZER;CN=Hillside Outside Ltd:MAILTO:
STATUS:CONFIRMED
UID:MORESPORTSNETWORK1957
DTSTART:20170527T080000Z
DTEND:20170527T120000Z
SUMMARY:Glentress Seven 2017
DESCRIPTION:Glentress Seven 2017 - more details: https://www.moredirt.com/event/1957
X-ALT-DESC;FMTTYPE=text/html:Glentress Seven 2017 - more details: https://www.moredirt.com/event/1957
LOCATION:
END:VEVENT
END:VCALENDAR