BEGIN:VCALENDAR
VERSION:2.0
PRODID:-//MoreDirt v1.0//EN
BEGIN:VEVENT
DTSTAMP:20150730T130000Z
ORGANIZER;CN=Richard Morgan:MAILTO:
STATUS:CONFIRMED
UID:MORESPORTSNETWORK194
DTSTART:20110925T080000Z
DTEND:20110925T120000Z
SUMMARY:Mr Bling's Summer Race Series RD6
DESCRIPTION:Mr Bling's Summer Race Series RD6 - more details: https://www.moredirt.com/event/194
X-ALT-DESC;FMTTYPE=text/html:Mr Bling's Summer Race Series RD6 - more details: https://www.moredirt.com/event/194
LOCATION:
END:VEVENT
END:VCALENDAR