BEGIN:VCALENDAR
VERSION:2.0
PRODID:-//MoreDirt v1.0//EN
BEGIN:VEVENT
DTSTAMP:20150730T130000Z
ORGANIZER;CN=MBR Magazine:MAILTO:
STATUS:CONFIRMED
UID:MORESPORTSNETWORK1935
DTSTART:20170325T080000+0000
DTEND:20170325T120000+0000
SUMMARY:MBR Demo Day -  Forest of Dean
DESCRIPTION:MBR Demo Day -  Forest of Dean - more details: https://www.moredirt.com/event/1935
X-ALT-DESC;FMTTYPE=text/html:MBR Demo Day -  Forest of Dean - more details: https://www.moredirt.com/event/1935
LOCATION:
END:VEVENT
END:VCALENDAR