BEGIN:VCALENDAR
VERSION:2.0
PRODID:-//MoreDirt v1.0//EN
BEGIN:VEVENT
DTSTAMP:20150730T130000Z
ORGANIZER;CN=Chris Roberts:MAILTO:
STATUS:CONFIRMED
UID:MORESPORTSNETWORK18
DTSTART:20110220T080000+0000
DTEND:20110220T120000+0000
SUMMARY:661 Mini Downhill R3
DESCRIPTION:661 Mini Downhill R3 - more details: https://www.moredirt.com/event/18
X-ALT-DESC;FMTTYPE=text/html:661 Mini Downhill R3 - more details: https://www.moredirt.com/event/18
LOCATION:
END:VEVENT
END:VCALENDAR