BEGIN:VCALENDAR
VERSION:2.0
PRODID:-//MoreDirt v1.0//EN
BEGIN:VEVENT
DTSTAMP:20150730T130000Z
ORGANIZER;CN=Alpine Bikes:MAILTO:
STATUS:CONFIRMED
UID:MORESPORTSNETWORK1890
DTSTART:20161022T080000Z
DTEND:20161022T120000Z
SUMMARY:Santa Cruz Demo & Free BBQ
DESCRIPTION:Santa Cruz Demo & Free BBQ - more details: https://www.moredirt.com/event/1890
X-ALT-DESC;FMTTYPE=text/html:Santa Cruz Demo & Free BBQ - more details: https://www.moredirt.com/event/1890
LOCATION:
END:VEVENT
END:VCALENDAR