BEGIN:VCALENDAR
VERSION:2.0
PRODID:-//MoreDirt v1.0//EN
BEGIN:VEVENT
DTSTAMP:20150730T130000Z
ORGANIZER;CN=The Surrey Cycle Show:MAILTO:
STATUS:CONFIRMED
UID:MORESPORTSNETWORK1879
DTSTART:20161008T080000Z
DTEND:20161008T120000Z
SUMMARY:The Surrey Cycle Show 2016
DESCRIPTION:The Surrey Cycle Show 2016 - more details: https://www.moredirt.com/event/1879
X-ALT-DESC;FMTTYPE=text/html:The Surrey Cycle Show 2016 - more details: https://www.moredirt.com/event/1879
LOCATION:
END:VEVENT
END:VCALENDAR