BEGIN:VCALENDAR
VERSION:2.0
PRODID:-//MoreDirt v1.0//EN
BEGIN:VEVENT
DTSTAMP:20150730T130000Z
ORGANIZER;CN=Rutland Cycling:MAILTO:
STATUS:CONFIRMED
UID:MORESPORTSNETWORK1869
DTSTART:20161106T080000+0000
DTEND:20161106T120000+0000
SUMMARY:Rutland Cycling MTB Demo Day 2016
DESCRIPTION:Rutland Cycling MTB Demo Day 2016 - more details: https://www.moredirt.com/event/1869
X-ALT-DESC;FMTTYPE=text/html:Rutland Cycling MTB Demo Day 2016 - more details: https://www.moredirt.com/event/1869
LOCATION:
END:VEVENT
END:VCALENDAR