BEGIN:VCALENDAR
VERSION:2.0
PRODID:-//MoreDirt v1.0//EN
BEGIN:VEVENT
DTSTAMP:20150730T130000Z
ORGANIZER;CN=Manx Mountain Bike Club:MAILTO:
STATUS:CONFIRMED
UID:MORESPORTSNETWORK1868
DTSTART:20170730T080000Z
DTEND:20170730T120000Z
SUMMARY:Manx 100 2017
DESCRIPTION:Manx 100 2017 - more details: https://www.moredirt.com/event/1868
X-ALT-DESC;FMTTYPE=text/html:Manx 100 2017 - more details: https://www.moredirt.com/event/1868
LOCATION:
END:VEVENT
END:VCALENDAR