BEGIN:VCALENDAR
VERSION:2.0
PRODID:-//MoreDirt v1.0//EN
BEGIN:VEVENT
DTSTAMP:20150730T130000Z
ORGANIZER;CN=Comrie Croft Bikes:MAILTO:
STATUS:CONFIRMED
UID:MORESPORTSNETWORK1855
DTSTART:20161009T080000Z
DTEND:20161009T120000Z
SUMMARY:Hairy Coo Mountain Bike Races
DESCRIPTION:Hairy Coo Mountain Bike Races - more details: https://www.moredirt.com/event/1855
X-ALT-DESC;FMTTYPE=text/html:Hairy Coo Mountain Bike Races - more details: https://www.moredirt.com/event/1855
LOCATION:
END:VEVENT
END:VCALENDAR