BEGIN:VCALENDAR
VERSION:2.0
PRODID:-//MoreDirt v1.0//EN
BEGIN:VEVENT
DTSTAMP:20150730T130000Z
ORGANIZER;CN=Forest of Dean Lions Club:MAILTO:
STATUS:CONFIRMED
UID:MORESPORTSNETWORK1836
DTSTART:20170514T080000Z
DTEND:20170514T120000Z
SUMMARY:The Wild Boar Chase 2017
DESCRIPTION:The Wild Boar Chase 2017 - more details: https://www.moredirt.com/event/1836
X-ALT-DESC;FMTTYPE=text/html:The Wild Boar Chase 2017 - more details: https://www.moredirt.com/event/1836
LOCATION:
END:VEVENT
END:VCALENDAR