BEGIN:VCALENDAR
VERSION:2.0
PRODID:-//MoreDirt v1.0//EN
BEGIN:VEVENT
DTSTAMP:20150730T130000Z
ORGANIZER;CN=St Luke’s Hospice Plymouth:MAILTO:
STATUS:CONFIRMED
UID:MORESPORTSNETWORK1833
DTSTART:20161009T080000Z
DTEND:20161009T120000Z
SUMMARY:Tour de Moor
DESCRIPTION:Tour de Moor - more details: https://www.moredirt.com/event/1833
X-ALT-DESC;FMTTYPE=text/html:Tour de Moor - more details: https://www.moredirt.com/event/1833
LOCATION:
END:VEVENT
END:VCALENDAR