BEGIN:VCALENDAR
VERSION:2.0
PRODID:-//MoreDirt v1.0//EN
BEGIN:VEVENT
DTSTAMP:20150730T130000Z
ORGANIZER;CN=Peaty's Bike Bonanza:MAILTO:
STATUS:CONFIRMED
UID:MORESPORTSNETWORK1832
DTSTART:20161113T080000+0000
DTEND:20161113T120000+0000
SUMMARY:Peaty's Bike Bonanza
DESCRIPTION:Peaty's Bike Bonanza - more details: https://www.moredirt.com/event/1832
X-ALT-DESC;FMTTYPE=text/html:Peaty's Bike Bonanza - more details: https://www.moredirt.com/event/1832
LOCATION:
END:VEVENT
END:VCALENDAR