BEGIN:VCALENDAR
VERSION:2.0
PRODID:-//MoreDirt v1.0//EN
BEGIN:VEVENT
DTSTAMP:20150730T130000Z
ORGANIZER;CN=MTBMeetUp:MAILTO:
STATUS:CONFIRMED
UID:MORESPORTSNETWORK1831
DTSTART:20170603T080000Z
DTEND:20170604T120000Z
SUMMARY:MTBMeetup 2017
DESCRIPTION:MTBMeetup 2017 - more details: https://www.moredirt.com/event/1831
X-ALT-DESC;FMTTYPE=text/html:MTBMeetup 2017 - more details: https://www.moredirt.com/event/1831
LOCATION:
END:VEVENT
END:VCALENDAR