BEGIN:VCALENDAR
VERSION:2.0
PRODID:-//MoreDirt v1.0//EN
BEGIN:VEVENT
DTSTAMP:20150730T130000Z
ORGANIZER;CN=Dark & White Challenge Events:MAILTO:
STATUS:CONFIRMED
UID:MORESPORTSNETWORK182
DTSTART:20120325T080000Z
DTEND:20120325T120000Z
SUMMARY:The 13th Dark & White Winter Bike O/Trailquest Series 2011/12 RD7
DESCRIPTION:The 13th Dark & White Winter Bike O/Trailquest Series 2011/12 RD7 - more details: https://www.moredirt.com/event/182
X-ALT-DESC;FMTTYPE=text/html:The 13th Dark & White Winter Bike O/Trailquest Series 2011/12 RD7 - more details: https://www.moredirt.com/event/182
LOCATION:
END:VEVENT
END:VCALENDAR