BEGIN:VCALENDAR
VERSION:2.0
PRODID:-//MoreDirt v1.0//EN
BEGIN:VEVENT
DTSTAMP:20150730T130000Z
ORGANIZER;CN=Hillside Outside Ltd:MAILTO:
STATUS:CONFIRMED
UID:MORESPORTSNETWORK1819
DTSTART:20170819T080000Z
DTEND:20170820T120000Z
SUMMARY:King and Queen of the Hill: Scottish Open Champs Enduro 2017
DESCRIPTION:King and Queen of the Hill: Scottish Open Champs Enduro 2017 - more details: https://www.moredirt.com/event/1819
X-ALT-DESC;FMTTYPE=text/html:King and Queen of the Hill: Scottish Open Champs Enduro 2017 - more details: https://www.moredirt.com/event/1819
LOCATION:
END:VEVENT
END:VCALENDAR