BEGIN:VCALENDAR
VERSION:2.0
PRODID:-//MoreDirt v1.0//EN
BEGIN:VEVENT
DTSTAMP:20150730T130000Z
ORGANIZER;CN=Hillside Outside Ltd:MAILTO:
STATUS:CONFIRMED
UID:MORESPORTSNETWORK1818
DTSTART:20170609T080000Z
DTEND:20170611T120000Z
SUMMARY:TweedLove International Enduro 2017
DESCRIPTION:TweedLove International Enduro 2017 - more details: https://www.moredirt.com/event/1818
X-ALT-DESC;FMTTYPE=text/html:TweedLove International Enduro 2017 - more details: https://www.moredirt.com/event/1818
LOCATION:
END:VEVENT
END:VCALENDAR