BEGIN:VCALENDAR
VERSION:2.0
PRODID:-//MoreDirt v1.0//EN
BEGIN:VEVENT
DTSTAMP:20150730T130000Z
ORGANIZER;CN=Sherwood Pines Cycles:MAILTO:
STATUS:CONFIRMED
UID:MORESPORTSNETWORK1813
DTSTART:20160908T080000Z
DTEND:20160909T120000Z
SUMMARY:Sherwood Pines Cycles Demo Ride
DESCRIPTION:Sherwood Pines Cycles Demo Ride - more details: https://www.moredirt.com/event/1813
X-ALT-DESC;FMTTYPE=text/html:Sherwood Pines Cycles Demo Ride - more details: https://www.moredirt.com/event/1813
LOCATION:
END:VEVENT
END:VCALENDAR