BEGIN:VCALENDAR
VERSION:2.0
PRODID:-//MoreDirt v1.0//EN
BEGIN:VEVENT
DTSTAMP:20150730T130000Z
ORGANIZER;CN=John Thorpe:MAILTO:
STATUS:CONFIRMED
UID:MORESPORTSNETWORK1812
DTSTART:20160924T080000Z
DTEND:20160925T120000Z
SUMMARY:Farmer Johns Race Weekend 2016
DESCRIPTION:Farmer Johns Race Weekend 2016 - more details: https://www.moredirt.com/event/1812
X-ALT-DESC;FMTTYPE=text/html:Farmer Johns Race Weekend 2016 - more details: https://www.moredirt.com/event/1812
LOCATION:
END:VEVENT
END:VCALENDAR