BEGIN:VCALENDAR
VERSION:2.0
PRODID:-//MoreDirt v1.0//EN
BEGIN:VEVENT
DTSTAMP:20150730T130000Z
ORGANIZER;CN=Soho Bikes:MAILTO:
STATUS:CONFIRMED
UID:MORESPORTSNETWORK1811
DTSTART:20160910T080000Z
DTEND:20160910T120000Z
SUMMARY:Aston Hill Demo Day - Soho Bikes
DESCRIPTION:Aston Hill Demo Day - Soho Bikes - more details: https://www.moredirt.com/event/1811
X-ALT-DESC;FMTTYPE=text/html:Aston Hill Demo Day - Soho Bikes - more details: https://www.moredirt.com/event/1811
LOCATION:
END:VEVENT
END:VCALENDAR