BEGIN:VCALENDAR
VERSION:2.0
PRODID:-//MoreDirt v1.0//EN
BEGIN:VEVENT
DTSTAMP:20150730T130000Z
ORGANIZER;CN=Downhill Freeriders:MAILTO:
STATUS:CONFIRMED
UID:MORESPORTSNETWORK1803
DTSTART:20160911T080000Z
DTEND:20160911T120000Z
SUMMARY:Downhill Freeriders Championship 2016 - Round 5
DESCRIPTION:Downhill Freeriders Championship 2016 - Round 5 - more details: https://www.moredirt.com/event/1803
X-ALT-DESC;FMTTYPE=text/html:Downhill Freeriders Championship 2016 - Round 5 - more details: https://www.moredirt.com/event/1803
LOCATION:
END:VEVENT
END:VCALENDAR