BEGIN:VCALENDAR
VERSION:2.0
PRODID:-//MoreDirt v1.0//EN
BEGIN:VEVENT
DTSTAMP:20150730T130000Z
ORGANIZER;CN=West Drayton MBC:MAILTO:
STATUS:CONFIRMED
UID:MORESPORTSNETWORK1793
DTSTART:20160917T080000Z
DTEND:20160917T120000Z
SUMMARY:Exposure Night of the Knobbly Tread 2016
DESCRIPTION:Exposure Night of the Knobbly Tread 2016 - more details: https://www.moredirt.com/event/1793
X-ALT-DESC;FMTTYPE=text/html:Exposure Night of the Knobbly Tread 2016 - more details: https://www.moredirt.com/event/1793
LOCATION:
END:VEVENT
END:VCALENDAR