BEGIN:VCALENDAR
VERSION:2.0
PRODID:-//MoreDirt v1.0//EN
BEGIN:VEVENT
DTSTAMP:20150730T130000Z
ORGANIZER;CN=Alpine Bikes:MAILTO:
STATUS:CONFIRMED
UID:MORESPORTSNETWORK1781
DTSTART:20160821T080000Z
DTEND:20160821T120000Z
SUMMARY:Whyte Demo Day
DESCRIPTION:Whyte Demo Day - more details: https://www.moredirt.com/event/1781
X-ALT-DESC;FMTTYPE=text/html:Whyte Demo Day - more details: https://www.moredirt.com/event/1781
LOCATION:
END:VEVENT
END:VCALENDAR