BEGIN:VCALENDAR
VERSION:2.0
PRODID:-//MoreDirt v1.0//EN
BEGIN:VEVENT
DTSTAMP:20150730T130000Z
ORGANIZER;CN=Twentyfour12:MAILTO:
STATUS:CONFIRMED
UID:MORESPORTSNETWORK1779
DTSTART:20170729T080000Z
DTEND:20170730T120000Z
SUMMARY:Twentyfour12 2017
DESCRIPTION:Twentyfour12 2017 - more details: https://www.moredirt.com/event/1779
X-ALT-DESC;FMTTYPE=text/html:Twentyfour12 2017 - more details: https://www.moredirt.com/event/1779
LOCATION:
END:VEVENT
END:VCALENDAR