BEGIN:VCALENDAR
VERSION:2.0
PRODID:-//MoreDirt v1.0//EN
BEGIN:VEVENT
DTSTAMP:20150730T130000Z
ORGANIZER;CN=MTB Guisborough:MAILTO:
STATUS:CONFIRMED
UID:MORESPORTSNETWORK1775
DTSTART:20160911T080000Z
DTEND:20160911T120000Z
SUMMARY:Ladies Day - North York Moors
DESCRIPTION:Ladies Day - North York Moors - more details: https://www.moredirt.com/event/1775
X-ALT-DESC;FMTTYPE=text/html:Ladies Day - North York Moors - more details: https://www.moredirt.com/event/1775
LOCATION:
END:VEVENT
END:VCALENDAR