BEGIN:VCALENDAR
VERSION:2.0
PRODID:-//MoreDirt v1.0//EN
BEGIN:VEVENT
DTSTAMP:20150730T130000Z
ORGANIZER;CN=Flyup 417:MAILTO:
STATUS:CONFIRMED
UID:MORESPORTSNETWORK1773
DTSTART:20160827T080000Z
DTEND:20160827T120000Z
SUMMARY:Dirt Olympics
DESCRIPTION:Dirt Olympics - more details: https://www.moredirt.com/event/1773
X-ALT-DESC;FMTTYPE=text/html:Dirt Olympics - more details: https://www.moredirt.com/event/1773
LOCATION:
END:VEVENT
END:VCALENDAR