BEGIN:VCALENDAR
VERSION:2.0
PRODID:-//MoreDirt v1.0//EN
BEGIN:VEVENT
DTSTAMP:20150730T130000Z
ORGANIZER;CN=East Coast Adventure Centre:MAILTO:
STATUS:CONFIRMED
UID:MORESPORTSNETWORK1772
DTSTART:20160810T080000Z
DTEND:20160810T120000Z
SUMMARY:Kids Mountain Bike Skills Camp
DESCRIPTION:Kids Mountain Bike Skills Camp - more details: https://www.moredirt.com/event/1772
X-ALT-DESC;FMTTYPE=text/html:Kids Mountain Bike Skills Camp - more details: https://www.moredirt.com/event/1772
LOCATION:
END:VEVENT
END:VCALENDAR