BEGIN:VCALENDAR
VERSION:2.0
PRODID:-//MoreDirt v1.0//EN
BEGIN:VEVENT
DTSTAMP:20150730T130000Z
ORGANIZER;CN=Gareth Sheppard:MAILTO:
STATUS:CONFIRMED
UID:MORESPORTSNETWORK1770
DTSTART:20160909T080000Z
DTEND:20160909T120000Z
SUMMARY:Twilight Enduro -  Forest of Dean
DESCRIPTION:Twilight Enduro -  Forest of Dean - more details: https://www.moredirt.com/event/1770
X-ALT-DESC;FMTTYPE=text/html:Twilight Enduro -  Forest of Dean - more details: https://www.moredirt.com/event/1770
LOCATION:
END:VEVENT
END:VCALENDAR