BEGIN:VCALENDAR
VERSION:2.0
PRODID:-//MoreDirt v1.0//EN
BEGIN:VEVENT
DTSTAMP:20150730T130000Z
ORGANIZER;CN=Yorkshire True Grit:MAILTO:
STATUS:CONFIRMED
UID:MORESPORTSNETWORK1769
DTSTART:20160904T080000Z
DTEND:20160904T120000Z
SUMMARY:Yorkshire True Grit 2016
DESCRIPTION:Yorkshire True Grit 2016 - more details: https://www.moredirt.com/event/1769
X-ALT-DESC;FMTTYPE=text/html:Yorkshire True Grit 2016 - more details: https://www.moredirt.com/event/1769
LOCATION:
END:VEVENT
END:VCALENDAR