BEGIN:VCALENDAR
VERSION:2.0
PRODID:-//MoreDirt v1.0//EN
BEGIN:VEVENT
DTSTAMP:20150730T130000Z
ORGANIZER;CN=The Dirty Reiver:MAILTO:
STATUS:CONFIRMED
UID:MORESPORTSNETWORK1766
DTSTART:20170422T080000Z
DTEND:20170422T120000Z
SUMMARY:Dirty Reiver 2017
DESCRIPTION:Dirty Reiver 2017 - more details: https://www.moredirt.com/event/1766
X-ALT-DESC;FMTTYPE=text/html:Dirty Reiver 2017 - more details: https://www.moredirt.com/event/1766
LOCATION:
END:VEVENT
END:VCALENDAR