BEGIN:VCALENDAR
VERSION:2.0
PRODID:-//MoreDirt v1.0//EN
BEGIN:VEVENT
DTSTAMP:20150730T130000Z
ORGANIZER;CN=Adrian Walls:MAILTO:
STATUS:CONFIRMED
UID:MORESPORTSNETWORK1760
DTSTART:20160731T080000Z
DTEND:20160731T120000Z
SUMMARY:Advance showing - Mountain Biking the untold British Story
DESCRIPTION:Advance showing - Mountain Biking the untold British Story - more details: https://www.moredirt.com/event/1760
X-ALT-DESC;FMTTYPE=text/html:Advance showing - Mountain Biking the untold British Story - more details: https://www.moredirt.com/event/1760
LOCATION:
END:VEVENT
END:VCALENDAR