BEGIN:VCALENDAR
VERSION:2.0
PRODID:-//MoreDirt v1.0//EN
BEGIN:VEVENT
DTSTAMP:20150730T130000Z
ORGANIZER;CN=Cycling Ireland Programmes:MAILTO:
STATUS:CONFIRMED
UID:MORESPORTSNETWORK1755
DTSTART:20160724T080000Z
DTEND:20160724T120000Z
SUMMARY:Mountain BIKE FEST 2016
DESCRIPTION:Mountain BIKE FEST 2016 - more details: https://www.moredirt.com/event/1755
X-ALT-DESC;FMTTYPE=text/html:Mountain BIKE FEST 2016 - more details: https://www.moredirt.com/event/1755
LOCATION:
END:VEVENT
END:VCALENDAR