BEGIN:VCALENDAR
VERSION:2.0
PRODID:-//MoreDirt v1.0//EN
BEGIN:VEVENT
DTSTAMP:20150730T130000Z
ORGANIZER;CN=Simon Burney:MAILTO:
STATUS:CONFIRMED
UID:MORESPORTSNETWORK1751
DTSTART:20160730T080000Z
DTEND:20160731T120000Z
SUMMARY:Hadleigh Park International
DESCRIPTION:Hadleigh Park International - more details: https://www.moredirt.com/event/1751
X-ALT-DESC;FMTTYPE=text/html:Hadleigh Park International - more details: https://www.moredirt.com/event/1751
LOCATION:
END:VEVENT
END:VCALENDAR