BEGIN:VCALENDAR
VERSION:2.0
PRODID:-//MoreDirt v1.0//EN
BEGIN:VEVENT
DTSTAMP:20150730T130000Z
ORGANIZER;CN=Rutland Cycling:MAILTO:
STATUS:CONFIRMED
UID:MORESPORTSNETWORK1749
DTSTART:20160725T080000Z
DTEND:20160725T120000Z
SUMMARY:CUBE - Electric Bike Summer Fun in the Forest
DESCRIPTION:CUBE - Electric Bike Summer Fun in the Forest - more details: https://www.moredirt.com/event/1749
X-ALT-DESC;FMTTYPE=text/html:CUBE - Electric Bike Summer Fun in the Forest - more details: https://www.moredirt.com/event/1749
LOCATION:
END:VEVENT
END:VCALENDAR