BEGIN:VCALENDAR
VERSION:2.0
PRODID:-//MoreDirt v1.0//EN
BEGIN:VEVENT
DTSTAMP:20150730T130000Z
ORGANIZER;CN=Pacific Edge Event:MAILTO:
STATUS:CONFIRMED
UID:MORESPORTSNETWORK1745
DTSTART:20170616T080000Z
DTEND:20170618T120000Z
SUMMARY:Mountain Mayhem 2017
DESCRIPTION:Mountain Mayhem 2017 - more details: https://www.moredirt.com/event/1745
X-ALT-DESC;FMTTYPE=text/html:Mountain Mayhem 2017 - more details: https://www.moredirt.com/event/1745
LOCATION:
END:VEVENT
END:VCALENDAR