BEGIN:VCALENDAR
VERSION:2.0
PRODID:-//MoreDirt v1.0//EN
BEGIN:VEVENT
DTSTAMP:20150730T130000Z
ORGANIZER;CN=Start Cycles:MAILTO:
STATUS:CONFIRMED
UID:MORESPORTSNETWORK1743
DTSTART:20160625T080000Z
DTEND:20160625T120000Z
SUMMARY:Nukeproof Demo Day - Hamsterley 2016
DESCRIPTION:Nukeproof Demo Day - Hamsterley 2016 - more details: https://www.moredirt.com/event/1743
X-ALT-DESC;FMTTYPE=text/html:Nukeproof Demo Day - Hamsterley 2016 - more details: https://www.moredirt.com/event/1743
LOCATION:
END:VEVENT
END:VCALENDAR