BEGIN:VCALENDAR
VERSION:2.0
PRODID:-//MoreDirt v1.0//EN
BEGIN:VEVENT
DTSTAMP:20150730T130000Z
ORGANIZER;CN=Nesta Hill:MAILTO:
STATUS:CONFIRMED
UID:MORESPORTSNETWORK1741
DTSTART:20170610T080000Z
DTEND:20170610T120000Z
SUMMARY:Long Mynd Batch Burner 2017
DESCRIPTION:Long Mynd Batch Burner 2017 - more details: https://www.moredirt.com/event/1741
X-ALT-DESC;FMTTYPE=text/html:Long Mynd Batch Burner 2017 - more details: https://www.moredirt.com/event/1741
LOCATION:
END:VEVENT
END:VCALENDAR