BEGIN:VCALENDAR
VERSION:2.0
PRODID:-//MoreDirt v1.0//EN
BEGIN:VEVENT
DTSTAMP:20150730T130000Z
ORGANIZER;CN=Channel Events:MAILTO:
STATUS:CONFIRMED
UID:MORESPORTSNETWORK1737
DTSTART:20160904T080000Z
DTEND:20160904T120000Z
SUMMARY:Quantock Quake 2016
DESCRIPTION:Quantock Quake 2016 - more details: https://www.moredirt.com/event/1737
X-ALT-DESC;FMTTYPE=text/html:Quantock Quake 2016 - more details: https://www.moredirt.com/event/1737
LOCATION:
END:VEVENT
END:VCALENDAR