BEGIN:VCALENDAR
VERSION:2.0
PRODID:-//MoreDirt v1.0//EN
BEGIN:VEVENT
DTSTAMP:20150730T130000Z
ORGANIZER;CN=Bikespace CIC:MAILTO:
STATUS:CONFIRMED
UID:MORESPORTSNETWORK1733
DTSTART:20160702T080000Z
DTEND:20160702T120000Z
SUMMARY:Electric Bike Demo Day - Bikespace CIC
DESCRIPTION:Electric Bike Demo Day - Bikespace CIC - more details: https://www.moredirt.com/event/1733
X-ALT-DESC;FMTTYPE=text/html:Electric Bike Demo Day - Bikespace CIC - more details: https://www.moredirt.com/event/1733
LOCATION:
END:VEVENT
END:VCALENDAR