BEGIN:VCALENDAR
VERSION:2.0
PRODID:-//MoreDirt v1.0//EN
BEGIN:VEVENT
DTSTAMP:20150730T130000Z
ORGANIZER;CN=Havok Bike Park:MAILTO:
STATUS:CONFIRMED
UID:MORESPORTSNETWORK1731
DTSTART:20160528T080000Z
DTEND:20160530T120000Z
SUMMARY:Havok Bike Park - Opening Weekend
DESCRIPTION:Havok Bike Park - Opening Weekend - more details: https://www.moredirt.com/event/1731
X-ALT-DESC;FMTTYPE=text/html:Havok Bike Park - Opening Weekend - more details: https://www.moredirt.com/event/1731
LOCATION:
END:VEVENT
END:VCALENDAR