BEGIN:VCALENDAR
VERSION:2.0
PRODID:-//MoreDirt v1.0//EN
BEGIN:VEVENT
DTSTAMP:20150730T130000Z
ORGANIZER;CN=Hicks Lodge:MAILTO:
STATUS:CONFIRMED
UID:MORESPORTSNETWORK1729
DTSTART:20160609T080000Z
DTEND:20160609T120000Z
SUMMARY:Diamondback & Raleigh Demo Night
DESCRIPTION:Diamondback & Raleigh Demo Night - more details: https://www.moredirt.com/event/1729
X-ALT-DESC;FMTTYPE=text/html:Diamondback & Raleigh Demo Night - more details: https://www.moredirt.com/event/1729
LOCATION:
END:VEVENT
END:VCALENDAR