BEGIN:VCALENDAR
VERSION:2.0
PRODID:-//MoreDirt v1.0//EN
BEGIN:VEVENT
DTSTAMP:20150730T130000Z
ORGANIZER;CN=YT Industries:MAILTO:
STATUS:CONFIRMED
UID:MORESPORTSNETWORK1726
DTSTART:20160527T080000Z
DTEND:20160529T120000Z
SUMMARY:YT Rolling Circus Tour 2016 - Sherwood Pines
DESCRIPTION:YT Rolling Circus Tour 2016 - Sherwood Pines - more details: https://www.moredirt.com/event/1726
X-ALT-DESC;FMTTYPE=text/html:YT Rolling Circus Tour 2016 - Sherwood Pines - more details: https://www.moredirt.com/event/1726
LOCATION:
END:VEVENT
END:VCALENDAR