BEGIN:VCALENDAR
VERSION:2.0
PRODID:-//MoreDirt v1.0//EN
BEGIN:VEVENT
DTSTAMP:20150730T130000Z
ORGANIZER;CN=Airdrop Bikes:MAILTO:
STATUS:CONFIRMED
UID:MORESPORTSNETWORK1723
DTSTART:20160604T080000Z
DTEND:20160604T120000Z
SUMMARY:Airdrop Demo Day - Sherwood Pines
DESCRIPTION:Airdrop Demo Day - Sherwood Pines - more details: https://www.moredirt.com/event/1723
X-ALT-DESC;FMTTYPE=text/html:Airdrop Demo Day - Sherwood Pines - more details: https://www.moredirt.com/event/1723
LOCATION:
END:VEVENT
END:VCALENDAR