BEGIN:VCALENDAR
VERSION:2.0
PRODID:-//MoreDirt v1.0//EN
BEGIN:VEVENT
DTSTAMP:20150730T130000Z
ORGANIZER;CN=Life Adventure:MAILTO:
STATUS:CONFIRMED
UID:MORESPORTSNETWORK1720
DTSTART:20160618T080000Z
DTEND:20160618T120000Z
SUMMARY:PSYCLE 8hr Mountain Bike Endurance Event
DESCRIPTION:PSYCLE 8hr Mountain Bike Endurance Event - more details: https://www.moredirt.com/event/1720
X-ALT-DESC;FMTTYPE=text/html:PSYCLE 8hr Mountain Bike Endurance Event - more details: https://www.moredirt.com/event/1720
LOCATION:
END:VEVENT
END:VCALENDAR