BEGIN:VCALENDAR
VERSION:2.0
PRODID:-//MoreDirt v1.0//EN
BEGIN:VEVENT
DTSTAMP:20150730T130000Z
ORGANIZER;CN=Gorric MBC:MAILTO:
STATUS:CONFIRMED
UID:MORESPORTSNETWORK171
DTSTART:20110918T080000Z
DTEND:20110918T120000Z
SUMMARY:TrailTrax Mountain Bike Orienteering Series 2011 RD5
DESCRIPTION:TrailTrax Mountain Bike Orienteering Series 2011 RD5 - more details: https://www.moredirt.com/event/171
X-ALT-DESC;FMTTYPE=text/html:TrailTrax Mountain Bike Orienteering Series 2011 RD5 - more details: https://www.moredirt.com/event/171
LOCATION:
END:VEVENT
END:VCALENDAR