BEGIN:VCALENDAR
VERSION:2.0
PRODID:-//MoreDirt v1.0//EN
BEGIN:VEVENT
DTSTAMP:20150730T130000Z
ORGANIZER;CN=Bristol Trails Group:MAILTO:
STATUS:CONFIRMED
UID:MORESPORTSNETWORK1719
DTSTART:20160821T080000Z
DTEND:20160821T120000Z
SUMMARY:Bristol Blast
DESCRIPTION:Bristol Blast - more details: https://www.moredirt.com/event/1719
X-ALT-DESC;FMTTYPE=text/html:Bristol Blast - more details: https://www.moredirt.com/event/1719
LOCATION:
END:VEVENT
END:VCALENDAR